BEGIN:VCALENDAR
VERSION:2.0
PRODID:http://www.kufer.de/kuferweb / DE
METHOD:PUBLISH
CALSCALE:GREGORIAN
X-WR-TIMEZONE:Europe/Berlin
BEGIN:VTIMEZONE
TZID:Europe/Berlin
X-LIC-LOCATION:Europe/Berlin
BEGIN:DAYLIGHT
TZOFFSETFROM:+0100
TZOFFSETTO:+0200
TZNAME:CEST
DTSTART;TZID=Europe/Berlin:19700329T020000
RRULE:FREQ=YEARLY;INTERVAL=1;BYDAY=-1SU;BYMONTH=3
END:DAYLIGHT
BEGIN:STANDARD
TZOFFSETFROM:+0200
TZOFFSETTO:+0100
TZNAME:CET
DTSTART;TZID=Europe/Berlin:19701025T030000
RRULE:FREQ=YEARLY;INTERVAL=1;BYDAY=-1SU;BYMONTH=10
END:STANDARD
END:VTIMEZONE
BEGIN:VEVENT
DTSTAMP:20260423T175317
DTSTART;TZID=Europe/Berlin:20260430T190000
DTEND;TZID=Europe/Berlin:20260430T203000
UID:26-47-7103-20260430T190000@VHSSCHWARZACHTAL
SUMMARY:Chinesisch von Anfang an A1 (26-47-7103) 
LOCATION:Altdorf, vhs am Markt, Kursraum 1, Unterer Markt 12, 90518 Altdorf
END:VEVENT
BEGIN:VEVENT
DTSTAMP:20260423T175317
DTSTART;TZID=Europe/Berlin:20260507T190000
DTEND;TZID=Europe/Berlin:20260507T203000
UID:26-47-7103-20260507T190000@VHSSCHWARZACHTAL
SUMMARY:Chinesisch von Anfang an A1 (26-47-7103) 
LOCATION:Altdorf, vhs am Markt, Kursraum 1, Unterer Markt 12, 90518 Altdorf
END:VEVENT
BEGIN:VEVENT
DTSTAMP:20260423T175317
DTSTART;TZID=Europe/Berlin:20260521T190000
DTEND;TZID=Europe/Berlin:20260521T203000
UID:26-47-7103-20260521T190000@VHSSCHWARZACHTAL
SUMMARY:Chinesisch von Anfang an A1 (26-47-7103) 
LOCATION:Altdorf, vhs am Markt, Kursraum 1, Unterer Markt 12, 90518 Altdorf
END:VEVENT
BEGIN:VEVENT
DTSTAMP:20260423T175317
DTSTART;TZID=Europe/Berlin:20260611T190000
DTEND;TZID=Europe/Berlin:20260611T203000
UID:26-47-7103-20260611T190000@VHSSCHWARZACHTAL
SUMMARY:Chinesisch von Anfang an A1 (26-47-7103) 
LOCATION:Altdorf, vhs am Markt, Kursraum 1, Unterer Markt 12, 90518 Altdorf
END:VEVENT
BEGIN:VEVENT
DTSTAMP:20260423T175317
DTSTART;TZID=Europe/Berlin:20260618T190000
DTEND;TZID=Europe/Berlin:20260618T203000
UID:26-47-7103-20260618T190000@VHSSCHWARZACHTAL
SUMMARY:Chinesisch von Anfang an A1 (26-47-7103) 
LOCATION:Altdorf, vhs am Markt, Kursraum 1, Unterer Markt 12, 90518 Altdorf
END:VEVENT
BEGIN:VEVENT
DTSTAMP:20260423T175317
DTSTART;TZID=Europe/Berlin:20260625T190000
DTEND;TZID=Europe/Berlin:20260625T203000
UID:26-47-7103-20260625T190000@VHSSCHWARZACHTAL
SUMMARY:Chinesisch von Anfang an A1 (26-47-7103) 
LOCATION:Altdorf, vhs am Markt, Kursraum 1, Unterer Markt 12, 90518 Altdorf
END:VEVENT
BEGIN:VEVENT
DTSTAMP:20260423T175317
DTSTART;TZID=Europe/Berlin:20260702T190000
DTEND;TZID=Europe/Berlin:20260702T203000
UID:26-47-7103-20260702T190000@VHSSCHWARZACHTAL
SUMMARY:Chinesisch von Anfang an A1 (26-47-7103) 
LOCATION:Altdorf, vhs am Markt, Kursraum 1, Unterer Markt 12, 90518 Altdorf
END:VEVENT
BEGIN:VEVENT
DTSTAMP:20260423T175317
DTSTART;TZID=Europe/Berlin:20260709T190000
DTEND;TZID=Europe/Berlin:20260709T203000
UID:26-47-7103-20260709T190000@VHSSCHWARZACHTAL
SUMMARY:Chinesisch von Anfang an A1 (26-47-7103) 
LOCATION:Altdorf, vhs am Markt, Kursraum 1, Unterer Markt 12, 90518 Altdorf
END:VEVENT
BEGIN:VEVENT
DTSTAMP:20260423T175317
DTSTART;TZID=Europe/Berlin:20260716T190000
DTEND;TZID=Europe/Berlin:20260716T203000
UID:26-47-7103-20260716T190000@VHSSCHWARZACHTAL
SUMMARY:Chinesisch von Anfang an A1 (26-47-7103) 
LOCATION:Altdorf, vhs am Markt, Kursraum 1, Unterer Markt 12, 90518 Altdorf
END:VEVENT
BEGIN:VEVENT
DTSTAMP:20260423T175317
DTSTART;TZID=Europe/Berlin:20260723T190000
DTEND;TZID=Europe/Berlin:20260723T203000
UID:26-47-7103-20260723T190000@VHSSCHWARZACHTAL
SUMMARY:Chinesisch von Anfang an A1 (26-47-7103) 
LOCATION:Altdorf, vhs am Markt, Kursraum 1, Unterer Markt 12, 90518 Altdorf
END:VEVENT
END:VCALENDAR