BEGIN:VCALENDAR
VERSION:2.0
PRODID:http://www.kufer.de/kuferweb / DE
METHOD:PUBLISH
CALSCALE:GREGORIAN
X-WR-TIMEZONE:Europe/Berlin
BEGIN:VTIMEZONE
TZID:Europe/Berlin
X-LIC-LOCATION:Europe/Berlin
BEGIN:DAYLIGHT
TZOFFSETFROM:+0100
TZOFFSETTO:+0200
TZNAME:CEST
DTSTART;TZID=Europe/Berlin:19700329T020000
RRULE:FREQ=YEARLY;INTERVAL=1;BYDAY=-1SU;BYMONTH=3
END:DAYLIGHT
BEGIN:STANDARD
TZOFFSETFROM:+0200
TZOFFSETTO:+0100
TZNAME:CET
DTSTART;TZID=Europe/Berlin:19701025T030000
RRULE:FREQ=YEARLY;INTERVAL=1;BYDAY=-1SU;BYMONTH=10
END:STANDARD
END:VTIMEZONE
BEGIN:VEVENT
DTSTAMP:20260423T175313
DTSTART;TZID=Europe/Berlin:20260423T110000
DTEND;TZID=Europe/Berlin:20260423T123000
UID:26-44-1024-20260423T110000@VHSSCHWARZACHTAL
SUMMARY:Italienisch A1 mit geringen Vorkenntnissen - Seniorenkurs für den Urlaub (26-44-1024) 
LOCATION:Altdorf, vhs am Markt, Kursraum 3, Unterer Markt 12, 90518 Altdorf
END:VEVENT
BEGIN:VEVENT
DTSTAMP:20260423T175313
DTSTART;TZID=Europe/Berlin:20260430T110000
DTEND;TZID=Europe/Berlin:20260430T123000
UID:26-44-1024-20260430T110000@VHSSCHWARZACHTAL
SUMMARY:Italienisch A1 mit geringen Vorkenntnissen - Seniorenkurs für den Urlaub (26-44-1024) 
LOCATION:Altdorf, vhs am Markt, Kursraum 3, Unterer Markt 12, 90518 Altdorf
END:VEVENT
BEGIN:VEVENT
DTSTAMP:20260423T175313
DTSTART;TZID=Europe/Berlin:20260507T110000
DTEND;TZID=Europe/Berlin:20260507T123000
UID:26-44-1024-20260507T110000@VHSSCHWARZACHTAL
SUMMARY:Italienisch A1 mit geringen Vorkenntnissen - Seniorenkurs für den Urlaub (26-44-1024) 
LOCATION:Altdorf, vhs am Markt, Kursraum 3, Unterer Markt 12, 90518 Altdorf
END:VEVENT
BEGIN:VEVENT
DTSTAMP:20260423T175313
DTSTART;TZID=Europe/Berlin:20260521T110000
DTEND;TZID=Europe/Berlin:20260521T123000
UID:26-44-1024-20260521T110000@VHSSCHWARZACHTAL
SUMMARY:Italienisch A1 mit geringen Vorkenntnissen - Seniorenkurs für den Urlaub (26-44-1024) 
LOCATION:Altdorf, vhs am Markt, Kursraum 3, Unterer Markt 12, 90518 Altdorf
END:VEVENT
BEGIN:VEVENT
DTSTAMP:20260423T175313
DTSTART;TZID=Europe/Berlin:20260611T110000
DTEND;TZID=Europe/Berlin:20260611T123000
UID:26-44-1024-20260611T110000@VHSSCHWARZACHTAL
SUMMARY:Italienisch A1 mit geringen Vorkenntnissen - Seniorenkurs für den Urlaub (26-44-1024) 
LOCATION:Altdorf, vhs am Markt, Kursraum 3, Unterer Markt 12, 90518 Altdorf
END:VEVENT
BEGIN:VEVENT
DTSTAMP:20260423T175313
DTSTART;TZID=Europe/Berlin:20260618T110000
DTEND;TZID=Europe/Berlin:20260618T123000
UID:26-44-1024-20260618T110000@VHSSCHWARZACHTAL
SUMMARY:Italienisch A1 mit geringen Vorkenntnissen - Seniorenkurs für den Urlaub (26-44-1024) 
LOCATION:Altdorf, vhs am Markt, Kursraum 3, Unterer Markt 12, 90518 Altdorf
END:VEVENT
BEGIN:VEVENT
DTSTAMP:20260423T175313
DTSTART;TZID=Europe/Berlin:20260625T110000
DTEND;TZID=Europe/Berlin:20260625T123000
UID:26-44-1024-20260625T110000@VHSSCHWARZACHTAL
SUMMARY:Italienisch A1 mit geringen Vorkenntnissen - Seniorenkurs für den Urlaub (26-44-1024) 
LOCATION:Altdorf, vhs am Markt, Kursraum 3, Unterer Markt 12, 90518 Altdorf
END:VEVENT
BEGIN:VEVENT
DTSTAMP:20260423T175313
DTSTART;TZID=Europe/Berlin:20260702T110000
DTEND;TZID=Europe/Berlin:20260702T123000
UID:26-44-1024-20260702T110000@VHSSCHWARZACHTAL
SUMMARY:Italienisch A1 mit geringen Vorkenntnissen - Seniorenkurs für den Urlaub (26-44-1024) 
LOCATION:Altdorf, vhs am Markt, Kursraum 3, Unterer Markt 12, 90518 Altdorf
END:VEVENT
BEGIN:VEVENT
DTSTAMP:20260423T175313
DTSTART;TZID=Europe/Berlin:20260709T110000
DTEND;TZID=Europe/Berlin:20260709T123000
UID:26-44-1024-20260709T110000@VHSSCHWARZACHTAL
SUMMARY:Italienisch A1 mit geringen Vorkenntnissen - Seniorenkurs für den Urlaub (26-44-1024) 
LOCATION:Altdorf, vhs am Markt, Kursraum 3, Unterer Markt 12, 90518 Altdorf
END:VEVENT
BEGIN:VEVENT
DTSTAMP:20260423T175313
DTSTART;TZID=Europe/Berlin:20260716T110000
DTEND;TZID=Europe/Berlin:20260716T123000
UID:26-44-1024-20260716T110000@VHSSCHWARZACHTAL
SUMMARY:Italienisch A1 mit geringen Vorkenntnissen - Seniorenkurs für den Urlaub (26-44-1024) 
LOCATION:Altdorf, vhs am Markt, Kursraum 3, Unterer Markt 12, 90518 Altdorf
END:VEVENT
END:VCALENDAR