BEGIN:VCALENDAR
VERSION:2.0
PRODID:http://www.kufer.de/kuferweb / DE
METHOD:PUBLISH
CALSCALE:GREGORIAN
X-WR-TIMEZONE:Europe/Berlin
BEGIN:VTIMEZONE
TZID:Europe/Berlin
X-LIC-LOCATION:Europe/Berlin
BEGIN:DAYLIGHT
TZOFFSETFROM:+0100
TZOFFSETTO:+0200
TZNAME:CEST
DTSTART;TZID=Europe/Berlin:19700329T020000
RRULE:FREQ=YEARLY;INTERVAL=1;BYDAY=-1SU;BYMONTH=3
END:DAYLIGHT
BEGIN:STANDARD
TZOFFSETFROM:+0200
TZOFFSETTO:+0100
TZNAME:CET
DTSTART;TZID=Europe/Berlin:19701025T030000
RRULE:FREQ=YEARLY;INTERVAL=1;BYDAY=-1SU;BYMONTH=10
END:STANDARD
END:VTIMEZONE
BEGIN:VEVENT
DTSTAMP:20260423T192558
DTSTART;TZID=Europe/Berlin:20260420T083000
DTEND;TZID=Europe/Berlin:20260420T100000
UID:26-43-2104-20260420T083000@VHSSCHWARZACHTAL
SUMMARY:Französisch A2 online (26-43-2104) 
LOCATION:Online, vhs.cloud, , 
END:VEVENT
BEGIN:VEVENT
DTSTAMP:20260423T192558
DTSTART;TZID=Europe/Berlin:20260427T083000
DTEND;TZID=Europe/Berlin:20260427T100000
UID:26-43-2104-20260427T083000@VHSSCHWARZACHTAL
SUMMARY:Französisch A2 online (26-43-2104) 
LOCATION:Online, vhs.cloud, , 
END:VEVENT
BEGIN:VEVENT
DTSTAMP:20260423T192558
DTSTART;TZID=Europe/Berlin:20260504T083000
DTEND;TZID=Europe/Berlin:20260504T100000
UID:26-43-2104-20260504T083000@VHSSCHWARZACHTAL
SUMMARY:Französisch A2 online (26-43-2104) 
LOCATION:Online, vhs.cloud, , 
END:VEVENT
BEGIN:VEVENT
DTSTAMP:20260423T192558
DTSTART;TZID=Europe/Berlin:20260511T083000
DTEND;TZID=Europe/Berlin:20260511T100000
UID:26-43-2104-20260511T083000@VHSSCHWARZACHTAL
SUMMARY:Französisch A2 online (26-43-2104) 
LOCATION:Online, vhs.cloud, , 
END:VEVENT
BEGIN:VEVENT
DTSTAMP:20260423T192558
DTSTART;TZID=Europe/Berlin:20260518T083000
DTEND;TZID=Europe/Berlin:20260518T100000
UID:26-43-2104-20260518T083000@VHSSCHWARZACHTAL
SUMMARY:Französisch A2 online (26-43-2104) 
LOCATION:Online, vhs.cloud, , 
END:VEVENT
BEGIN:VEVENT
DTSTAMP:20260423T192558
DTSTART;TZID=Europe/Berlin:20260601T083000
DTEND;TZID=Europe/Berlin:20260601T100000
UID:26-43-2104-20260601T083000@VHSSCHWARZACHTAL
SUMMARY:Französisch A2 online (26-43-2104) 
LOCATION:Online, vhs.cloud, , 
END:VEVENT
BEGIN:VEVENT
DTSTAMP:20260423T192558
DTSTART;TZID=Europe/Berlin:20260608T083000
DTEND;TZID=Europe/Berlin:20260608T100000
UID:26-43-2104-20260608T083000@VHSSCHWARZACHTAL
SUMMARY:Französisch A2 online (26-43-2104) 
LOCATION:Online, vhs.cloud, , 
END:VEVENT
BEGIN:VEVENT
DTSTAMP:20260423T192558
DTSTART;TZID=Europe/Berlin:20260615T083000
DTEND;TZID=Europe/Berlin:20260615T100000
UID:26-43-2104-20260615T083000@VHSSCHWARZACHTAL
SUMMARY:Französisch A2 online (26-43-2104) 
LOCATION:Online, vhs.cloud, , 
END:VEVENT
BEGIN:VEVENT
DTSTAMP:20260423T192558
DTSTART;TZID=Europe/Berlin:20260622T083000
DTEND;TZID=Europe/Berlin:20260622T100000
UID:26-43-2104-20260622T083000@VHSSCHWARZACHTAL
SUMMARY:Französisch A2 online (26-43-2104) 
LOCATION:Online, vhs.cloud, , 
END:VEVENT
BEGIN:VEVENT
DTSTAMP:20260423T192558
DTSTART;TZID=Europe/Berlin:20260629T083000
DTEND;TZID=Europe/Berlin:20260629T100000
UID:26-43-2104-20260629T083000@VHSSCHWARZACHTAL
SUMMARY:Französisch A2 online (26-43-2104) 
LOCATION:Online, vhs.cloud, , 
END:VEVENT
BEGIN:VEVENT
DTSTAMP:20260423T192558
DTSTART;TZID=Europe/Berlin:20260706T083000
DTEND;TZID=Europe/Berlin:20260706T100000
UID:26-43-2104-20260706T083000@VHSSCHWARZACHTAL
SUMMARY:Französisch A2 online (26-43-2104) 
LOCATION:Online, vhs.cloud, , 
END:VEVENT
BEGIN:VEVENT
DTSTAMP:20260423T192558
DTSTART;TZID=Europe/Berlin:20260713T083000
DTEND;TZID=Europe/Berlin:20260713T100000
UID:26-43-2104-20260713T083000@VHSSCHWARZACHTAL
SUMMARY:Französisch A2 online (26-43-2104) 
LOCATION:Online, vhs.cloud, , 
END:VEVENT
BEGIN:VEVENT
DTSTAMP:20260423T192558
DTSTART;TZID=Europe/Berlin:20260720T083000
DTEND;TZID=Europe/Berlin:20260720T100000
UID:26-43-2104-20260720T083000@VHSSCHWARZACHTAL
SUMMARY:Französisch A2 online (26-43-2104) 
LOCATION:Online, vhs.cloud, , 
END:VEVENT
END:VCALENDAR