BEGIN:VCALENDAR
VERSION:2.0
PRODID:http://www.kufer.de/kuferweb / DE
METHOD:PUBLISH
CALSCALE:GREGORIAN
X-WR-TIMEZONE:Europe/Berlin
BEGIN:VTIMEZONE
TZID:Europe/Berlin
X-LIC-LOCATION:Europe/Berlin
BEGIN:DAYLIGHT
TZOFFSETFROM:+0100
TZOFFSETTO:+0200
TZNAME:CEST
DTSTART;TZID=Europe/Berlin:19700329T020000
RRULE:FREQ=YEARLY;INTERVAL=1;BYDAY=-1SU;BYMONTH=3
END:DAYLIGHT
BEGIN:STANDARD
TZOFFSETFROM:+0200
TZOFFSETTO:+0100
TZNAME:CET
DTSTART;TZID=Europe/Berlin:19701025T030000
RRULE:FREQ=YEARLY;INTERVAL=1;BYDAY=-1SU;BYMONTH=10
END:STANDARD
END:VTIMEZONE
BEGIN:VEVENT
DTSTAMP:20260423T192708
DTSTART;TZID=Europe/Berlin:20260421T101500
DTEND;TZID=Europe/Berlin:20260421T114500
UID:26-43-1120-20260421T101500@VHSSCHWARZACHTAL
SUMMARY:Französisch A1 online mit Vorkenntnissen (26-43-1120) 
LOCATION:Online, vhs.cloud, , 
END:VEVENT
BEGIN:VEVENT
DTSTAMP:20260423T192708
DTSTART;TZID=Europe/Berlin:20260428T101500
DTEND;TZID=Europe/Berlin:20260428T114500
UID:26-43-1120-20260428T101500@VHSSCHWARZACHTAL
SUMMARY:Französisch A1 online mit Vorkenntnissen (26-43-1120) 
LOCATION:Online, vhs.cloud, , 
END:VEVENT
BEGIN:VEVENT
DTSTAMP:20260423T192708
DTSTART;TZID=Europe/Berlin:20260505T101500
DTEND;TZID=Europe/Berlin:20260505T114500
UID:26-43-1120-20260505T101500@VHSSCHWARZACHTAL
SUMMARY:Französisch A1 online mit Vorkenntnissen (26-43-1120) 
LOCATION:Online, vhs.cloud, , 
END:VEVENT
BEGIN:VEVENT
DTSTAMP:20260423T192708
DTSTART;TZID=Europe/Berlin:20260512T101500
DTEND;TZID=Europe/Berlin:20260512T114500
UID:26-43-1120-20260512T101500@VHSSCHWARZACHTAL
SUMMARY:Französisch A1 online mit Vorkenntnissen (26-43-1120) 
LOCATION:Online, vhs.cloud, , 
END:VEVENT
BEGIN:VEVENT
DTSTAMP:20260423T192708
DTSTART;TZID=Europe/Berlin:20260519T101500
DTEND;TZID=Europe/Berlin:20260519T114500
UID:26-43-1120-20260519T101500@VHSSCHWARZACHTAL
SUMMARY:Französisch A1 online mit Vorkenntnissen (26-43-1120) 
LOCATION:Online, vhs.cloud, , 
END:VEVENT
BEGIN:VEVENT
DTSTAMP:20260423T192708
DTSTART;TZID=Europe/Berlin:20260602T101500
DTEND;TZID=Europe/Berlin:20260602T114500
UID:26-43-1120-20260602T101500@VHSSCHWARZACHTAL
SUMMARY:Französisch A1 online mit Vorkenntnissen (26-43-1120) 
LOCATION:Online, vhs.cloud, , 
END:VEVENT
BEGIN:VEVENT
DTSTAMP:20260423T192708
DTSTART;TZID=Europe/Berlin:20260609T101500
DTEND;TZID=Europe/Berlin:20260609T114500
UID:26-43-1120-20260609T101500@VHSSCHWARZACHTAL
SUMMARY:Französisch A1 online mit Vorkenntnissen (26-43-1120) 
LOCATION:Online, vhs.cloud, , 
END:VEVENT
BEGIN:VEVENT
DTSTAMP:20260423T192708
DTSTART;TZID=Europe/Berlin:20260616T101500
DTEND;TZID=Europe/Berlin:20260616T114500
UID:26-43-1120-20260616T101500@VHSSCHWARZACHTAL
SUMMARY:Französisch A1 online mit Vorkenntnissen (26-43-1120) 
LOCATION:Online, vhs.cloud, , 
END:VEVENT
BEGIN:VEVENT
DTSTAMP:20260423T192708
DTSTART;TZID=Europe/Berlin:20260623T101500
DTEND;TZID=Europe/Berlin:20260623T114500
UID:26-43-1120-20260623T101500@VHSSCHWARZACHTAL
SUMMARY:Französisch A1 online mit Vorkenntnissen (26-43-1120) 
LOCATION:Online, vhs.cloud, , 
END:VEVENT
BEGIN:VEVENT
DTSTAMP:20260423T192708
DTSTART;TZID=Europe/Berlin:20260630T101500
DTEND;TZID=Europe/Berlin:20260630T114500
UID:26-43-1120-20260630T101500@VHSSCHWARZACHTAL
SUMMARY:Französisch A1 online mit Vorkenntnissen (26-43-1120) 
LOCATION:Online, vhs.cloud, , 
END:VEVENT
BEGIN:VEVENT
DTSTAMP:20260423T192708
DTSTART;TZID=Europe/Berlin:20260707T101500
DTEND;TZID=Europe/Berlin:20260707T114500
UID:26-43-1120-20260707T101500@VHSSCHWARZACHTAL
SUMMARY:Französisch A1 online mit Vorkenntnissen (26-43-1120) 
LOCATION:Online, vhs.cloud, , 
END:VEVENT
BEGIN:VEVENT
DTSTAMP:20260423T192708
DTSTART;TZID=Europe/Berlin:20260714T101500
DTEND;TZID=Europe/Berlin:20260714T114500
UID:26-43-1120-20260714T101500@VHSSCHWARZACHTAL
SUMMARY:Französisch A1 online mit Vorkenntnissen (26-43-1120) 
LOCATION:Online, vhs.cloud, , 
END:VEVENT
BEGIN:VEVENT
DTSTAMP:20260423T192708
DTSTART;TZID=Europe/Berlin:20260721T101500
DTEND;TZID=Europe/Berlin:20260721T114500
UID:26-43-1120-20260721T101500@VHSSCHWARZACHTAL
SUMMARY:Französisch A1 online mit Vorkenntnissen (26-43-1120) 
LOCATION:Online, vhs.cloud, , 
END:VEVENT
END:VCALENDAR