BEGIN:VCALENDAR
VERSION:2.0
PRODID:http://www.kufer.de/kuferweb / DE
METHOD:PUBLISH
CALSCALE:GREGORIAN
X-WR-TIMEZONE:Europe/Berlin
BEGIN:VTIMEZONE
TZID:Europe/Berlin
X-LIC-LOCATION:Europe/Berlin
BEGIN:DAYLIGHT
TZOFFSETFROM:+0100
TZOFFSETTO:+0200
TZNAME:CEST
DTSTART;TZID=Europe/Berlin:19700329T020000
RRULE:FREQ=YEARLY;INTERVAL=1;BYDAY=-1SU;BYMONTH=3
END:DAYLIGHT
BEGIN:STANDARD
TZOFFSETFROM:+0200
TZOFFSETTO:+0100
TZNAME:CET
DTSTART;TZID=Europe/Berlin:19701025T030000
RRULE:FREQ=YEARLY;INTERVAL=1;BYDAY=-1SU;BYMONTH=10
END:STANDARD
END:VTIMEZONE
BEGIN:VEVENT
DTSTAMP:20260423T192603
DTSTART;TZID=Europe/Berlin:20260421T083000
DTEND;TZID=Europe/Berlin:20260421T100000
UID:26-43-1116-20260421T083000@VHSSCHWARZACHTAL
SUMMARY:Französisch A1 online mit geringen Vorkenntnissen (26-43-1116) 
LOCATION:Online, vhs.cloud, , 
END:VEVENT
BEGIN:VEVENT
DTSTAMP:20260423T192603
DTSTART;TZID=Europe/Berlin:20260428T083000
DTEND;TZID=Europe/Berlin:20260428T100000
UID:26-43-1116-20260428T083000@VHSSCHWARZACHTAL
SUMMARY:Französisch A1 online mit geringen Vorkenntnissen (26-43-1116) 
LOCATION:Online, vhs.cloud, , 
END:VEVENT
BEGIN:VEVENT
DTSTAMP:20260423T192603
DTSTART;TZID=Europe/Berlin:20260505T083000
DTEND;TZID=Europe/Berlin:20260505T100000
UID:26-43-1116-20260505T083000@VHSSCHWARZACHTAL
SUMMARY:Französisch A1 online mit geringen Vorkenntnissen (26-43-1116) 
LOCATION:Online, vhs.cloud, , 
END:VEVENT
BEGIN:VEVENT
DTSTAMP:20260423T192603
DTSTART;TZID=Europe/Berlin:20260512T083000
DTEND;TZID=Europe/Berlin:20260512T100000
UID:26-43-1116-20260512T083000@VHSSCHWARZACHTAL
SUMMARY:Französisch A1 online mit geringen Vorkenntnissen (26-43-1116) 
LOCATION:Online, vhs.cloud, , 
END:VEVENT
BEGIN:VEVENT
DTSTAMP:20260423T192603
DTSTART;TZID=Europe/Berlin:20260519T083000
DTEND;TZID=Europe/Berlin:20260519T100000
UID:26-43-1116-20260519T083000@VHSSCHWARZACHTAL
SUMMARY:Französisch A1 online mit geringen Vorkenntnissen (26-43-1116) 
LOCATION:Online, vhs.cloud, , 
END:VEVENT
BEGIN:VEVENT
DTSTAMP:20260423T192603
DTSTART;TZID=Europe/Berlin:20260602T083000
DTEND;TZID=Europe/Berlin:20260602T100000
UID:26-43-1116-20260602T083000@VHSSCHWARZACHTAL
SUMMARY:Französisch A1 online mit geringen Vorkenntnissen (26-43-1116) 
LOCATION:Online, vhs.cloud, , 
END:VEVENT
BEGIN:VEVENT
DTSTAMP:20260423T192603
DTSTART;TZID=Europe/Berlin:20260609T083000
DTEND;TZID=Europe/Berlin:20260609T100000
UID:26-43-1116-20260609T083000@VHSSCHWARZACHTAL
SUMMARY:Französisch A1 online mit geringen Vorkenntnissen (26-43-1116) 
LOCATION:Online, vhs.cloud, , 
END:VEVENT
BEGIN:VEVENT
DTSTAMP:20260423T192603
DTSTART;TZID=Europe/Berlin:20260616T083000
DTEND;TZID=Europe/Berlin:20260616T100000
UID:26-43-1116-20260616T083000@VHSSCHWARZACHTAL
SUMMARY:Französisch A1 online mit geringen Vorkenntnissen (26-43-1116) 
LOCATION:Online, vhs.cloud, , 
END:VEVENT
BEGIN:VEVENT
DTSTAMP:20260423T192603
DTSTART;TZID=Europe/Berlin:20260623T083000
DTEND;TZID=Europe/Berlin:20260623T100000
UID:26-43-1116-20260623T083000@VHSSCHWARZACHTAL
SUMMARY:Französisch A1 online mit geringen Vorkenntnissen (26-43-1116) 
LOCATION:Online, vhs.cloud, , 
END:VEVENT
BEGIN:VEVENT
DTSTAMP:20260423T192603
DTSTART;TZID=Europe/Berlin:20260630T083000
DTEND;TZID=Europe/Berlin:20260630T100000
UID:26-43-1116-20260630T083000@VHSSCHWARZACHTAL
SUMMARY:Französisch A1 online mit geringen Vorkenntnissen (26-43-1116) 
LOCATION:Online, vhs.cloud, , 
END:VEVENT
BEGIN:VEVENT
DTSTAMP:20260423T192603
DTSTART;TZID=Europe/Berlin:20260707T083000
DTEND;TZID=Europe/Berlin:20260707T100000
UID:26-43-1116-20260707T083000@VHSSCHWARZACHTAL
SUMMARY:Französisch A1 online mit geringen Vorkenntnissen (26-43-1116) 
LOCATION:Online, vhs.cloud, , 
END:VEVENT
BEGIN:VEVENT
DTSTAMP:20260423T192603
DTSTART;TZID=Europe/Berlin:20260714T083000
DTEND;TZID=Europe/Berlin:20260714T100000
UID:26-43-1116-20260714T083000@VHSSCHWARZACHTAL
SUMMARY:Französisch A1 online mit geringen Vorkenntnissen (26-43-1116) 
LOCATION:Online, vhs.cloud, , 
END:VEVENT
BEGIN:VEVENT
DTSTAMP:20260423T192603
DTSTART;TZID=Europe/Berlin:20260721T083000
DTEND;TZID=Europe/Berlin:20260721T100000
UID:26-43-1116-20260721T083000@VHSSCHWARZACHTAL
SUMMARY:Französisch A1 online mit geringen Vorkenntnissen (26-43-1116) 
LOCATION:Online, vhs.cloud, , 
END:VEVENT
END:VCALENDAR