BEGIN:VCALENDAR
VERSION:2.0
PRODID:http://www.kufer.de/kuferweb / DE
METHOD:PUBLISH
CALSCALE:GREGORIAN
X-WR-TIMEZONE:Europe/Berlin
BEGIN:VTIMEZONE
TZID:Europe/Berlin
X-LIC-LOCATION:Europe/Berlin
BEGIN:DAYLIGHT
TZOFFSETFROM:+0100
TZOFFSETTO:+0200
TZNAME:CEST
DTSTART;TZID=Europe/Berlin:19700329T020000
RRULE:FREQ=YEARLY;INTERVAL=1;BYDAY=-1SU;BYMONTH=3
END:DAYLIGHT
BEGIN:STANDARD
TZOFFSETFROM:+0200
TZOFFSETTO:+0100
TZNAME:CET
DTSTART;TZID=Europe/Berlin:19701025T030000
RRULE:FREQ=YEARLY;INTERVAL=1;BYDAY=-1SU;BYMONTH=10
END:STANDARD
END:VTIMEZONE
BEGIN:VEVENT
DTSTAMP:20260423T192658
DTSTART;TZID=Europe/Berlin:20260416T170000
DTEND;TZID=Europe/Berlin:20260416T183000
UID:26-42-4566-20260416T170000@VHSSCHWARZACHTAL
SUMMARY:Keep it up! English B2 (26-42-4566) 
LOCATION:Altdorf, vhs am Markt, Kursraum 3, Unterer Markt 12, 90518 Altdorf
END:VEVENT
BEGIN:VEVENT
DTSTAMP:20260423T192658
DTSTART;TZID=Europe/Berlin:20260423T170000
DTEND;TZID=Europe/Berlin:20260423T183000
UID:26-42-4566-20260423T170000@VHSSCHWARZACHTAL
SUMMARY:Keep it up! English B2 (26-42-4566) 
LOCATION:Altdorf, vhs am Markt, Kursraum 3, Unterer Markt 12, 90518 Altdorf
END:VEVENT
BEGIN:VEVENT
DTSTAMP:20260423T192658
DTSTART;TZID=Europe/Berlin:20260507T170000
DTEND;TZID=Europe/Berlin:20260507T183000
UID:26-42-4566-20260507T170000@VHSSCHWARZACHTAL
SUMMARY:Keep it up! English B2 (26-42-4566) 
LOCATION:Altdorf, vhs am Markt, Kursraum 3, Unterer Markt 12, 90518 Altdorf
END:VEVENT
BEGIN:VEVENT
DTSTAMP:20260423T192658
DTSTART;TZID=Europe/Berlin:20260521T170000
DTEND;TZID=Europe/Berlin:20260521T183000
UID:26-42-4566-20260521T170000@VHSSCHWARZACHTAL
SUMMARY:Keep it up! English B2 (26-42-4566) 
LOCATION:Altdorf, vhs am Markt, Kursraum 3, Unterer Markt 12, 90518 Altdorf
END:VEVENT
BEGIN:VEVENT
DTSTAMP:20260423T192658
DTSTART;TZID=Europe/Berlin:20260611T170000
DTEND;TZID=Europe/Berlin:20260611T183000
UID:26-42-4566-20260611T170000@VHSSCHWARZACHTAL
SUMMARY:Keep it up! English B2 (26-42-4566) 
LOCATION:Altdorf, vhs am Markt, Kursraum 3, Unterer Markt 12, 90518 Altdorf
END:VEVENT
BEGIN:VEVENT
DTSTAMP:20260423T192658
DTSTART;TZID=Europe/Berlin:20260618T170000
DTEND;TZID=Europe/Berlin:20260618T183000
UID:26-42-4566-20260618T170000@VHSSCHWARZACHTAL
SUMMARY:Keep it up! English B2 (26-42-4566) 
LOCATION:Altdorf, vhs am Markt, Kursraum 3, Unterer Markt 12, 90518 Altdorf
END:VEVENT
BEGIN:VEVENT
DTSTAMP:20260423T192658
DTSTART;TZID=Europe/Berlin:20260625T170000
DTEND;TZID=Europe/Berlin:20260625T183000
UID:26-42-4566-20260625T170000@VHSSCHWARZACHTAL
SUMMARY:Keep it up! English B2 (26-42-4566) 
LOCATION:Altdorf, vhs am Markt, Kursraum 3, Unterer Markt 12, 90518 Altdorf
END:VEVENT
BEGIN:VEVENT
DTSTAMP:20260423T192658
DTSTART;TZID=Europe/Berlin:20260702T170000
DTEND;TZID=Europe/Berlin:20260702T183000
UID:26-42-4566-20260702T170000@VHSSCHWARZACHTAL
SUMMARY:Keep it up! English B2 (26-42-4566) 
LOCATION:Altdorf, vhs am Markt, Kursraum 3, Unterer Markt 12, 90518 Altdorf
END:VEVENT
BEGIN:VEVENT
DTSTAMP:20260423T192658
DTSTART;TZID=Europe/Berlin:20260709T170000
DTEND;TZID=Europe/Berlin:20260709T183000
UID:26-42-4566-20260709T170000@VHSSCHWARZACHTAL
SUMMARY:Keep it up! English B2 (26-42-4566) 
LOCATION:Altdorf, vhs am Markt, Kursraum 3, Unterer Markt 12, 90518 Altdorf
END:VEVENT
BEGIN:VEVENT
DTSTAMP:20260423T192658
DTSTART;TZID=Europe/Berlin:20260716T170000
DTEND;TZID=Europe/Berlin:20260716T183000
UID:26-42-4566-20260716T170000@VHSSCHWARZACHTAL
SUMMARY:Keep it up! English B2 (26-42-4566) 
LOCATION:Altdorf, vhs am Markt, Kursraum 3, Unterer Markt 12, 90518 Altdorf
END:VEVENT
END:VCALENDAR