BEGIN:VCALENDAR
VERSION:2.0
PRODID:http://www.kufer.de/kuferweb / DE
METHOD:PUBLISH
CALSCALE:GREGORIAN
X-WR-TIMEZONE:Europe/Berlin
BEGIN:VTIMEZONE
TZID:Europe/Berlin
X-LIC-LOCATION:Europe/Berlin
BEGIN:DAYLIGHT
TZOFFSETFROM:+0100
TZOFFSETTO:+0200
TZNAME:CEST
DTSTART;TZID=Europe/Berlin:19700329T020000
RRULE:FREQ=YEARLY;INTERVAL=1;BYDAY=-1SU;BYMONTH=3
END:DAYLIGHT
BEGIN:STANDARD
TZOFFSETFROM:+0200
TZOFFSETTO:+0100
TZNAME:CET
DTSTART;TZID=Europe/Berlin:19701025T030000
RRULE:FREQ=YEARLY;INTERVAL=1;BYDAY=-1SU;BYMONTH=10
END:STANDARD
END:VTIMEZONE
BEGIN:VEVENT
DTSTAMP:20260423T192718
DTSTART;TZID=Europe/Berlin:20260421T190000
DTEND;TZID=Europe/Berlin:20260421T203000
UID:26-42-3810-20260421T190000@VHSSCHWARZACHTAL
SUMMARY:Business English B1 (26-42-3810) 
LOCATION:Altdorf, vhs am Markt, Kursraum 3, Unterer Markt 12, 90518 Altdorf
END:VEVENT
BEGIN:VEVENT
DTSTAMP:20260423T192718
DTSTART;TZID=Europe/Berlin:20260428T190000
DTEND;TZID=Europe/Berlin:20260428T203000
UID:26-42-3810-20260428T190000@VHSSCHWARZACHTAL
SUMMARY:Business English B1 (26-42-3810) 
LOCATION:Altdorf, vhs am Markt, Kursraum 3, Unterer Markt 12, 90518 Altdorf
END:VEVENT
BEGIN:VEVENT
DTSTAMP:20260423T192718
DTSTART;TZID=Europe/Berlin:20260505T190000
DTEND;TZID=Europe/Berlin:20260505T203000
UID:26-42-3810-20260505T190000@VHSSCHWARZACHTAL
SUMMARY:Business English B1 (26-42-3810) 
LOCATION:Altdorf, vhs am Markt, Kursraum 3, Unterer Markt 12, 90518 Altdorf
END:VEVENT
BEGIN:VEVENT
DTSTAMP:20260423T192718
DTSTART;TZID=Europe/Berlin:20260512T190000
DTEND;TZID=Europe/Berlin:20260512T203000
UID:26-42-3810-20260512T190000@VHSSCHWARZACHTAL
SUMMARY:Business English B1 (26-42-3810) 
LOCATION:Altdorf, vhs am Markt, Kursraum 3, Unterer Markt 12, 90518 Altdorf
END:VEVENT
BEGIN:VEVENT
DTSTAMP:20260423T192718
DTSTART;TZID=Europe/Berlin:20260519T190000
DTEND;TZID=Europe/Berlin:20260519T203000
UID:26-42-3810-20260519T190000@VHSSCHWARZACHTAL
SUMMARY:Business English B1 (26-42-3810) 
LOCATION:Altdorf, vhs am Markt, Kursraum 3, Unterer Markt 12, 90518 Altdorf
END:VEVENT
BEGIN:VEVENT
DTSTAMP:20260423T192718
DTSTART;TZID=Europe/Berlin:20260609T190000
DTEND;TZID=Europe/Berlin:20260609T203000
UID:26-42-3810-20260609T190000@VHSSCHWARZACHTAL
SUMMARY:Business English B1 (26-42-3810) 
LOCATION:Altdorf, vhs am Markt, Kursraum 3, Unterer Markt 12, 90518 Altdorf
END:VEVENT
BEGIN:VEVENT
DTSTAMP:20260423T192718
DTSTART;TZID=Europe/Berlin:20260616T190000
DTEND;TZID=Europe/Berlin:20260616T203000
UID:26-42-3810-20260616T190000@VHSSCHWARZACHTAL
SUMMARY:Business English B1 (26-42-3810) 
LOCATION:Altdorf, vhs am Markt, Kursraum 3, Unterer Markt 12, 90518 Altdorf
END:VEVENT
BEGIN:VEVENT
DTSTAMP:20260423T192718
DTSTART;TZID=Europe/Berlin:20260623T190000
DTEND;TZID=Europe/Berlin:20260623T203000
UID:26-42-3810-20260623T190000@VHSSCHWARZACHTAL
SUMMARY:Business English B1 (26-42-3810) 
LOCATION:Altdorf, vhs am Markt, Kursraum 3, Unterer Markt 12, 90518 Altdorf
END:VEVENT
BEGIN:VEVENT
DTSTAMP:20260423T192718
DTSTART;TZID=Europe/Berlin:20260630T190000
DTEND;TZID=Europe/Berlin:20260630T203000
UID:26-42-3810-20260630T190000@VHSSCHWARZACHTAL
SUMMARY:Business English B1 (26-42-3810) 
LOCATION:Altdorf, vhs am Markt, Kursraum 3, Unterer Markt 12, 90518 Altdorf
END:VEVENT
BEGIN:VEVENT
DTSTAMP:20260423T192718
DTSTART;TZID=Europe/Berlin:20260707T190000
DTEND;TZID=Europe/Berlin:20260707T203000
UID:26-42-3810-20260707T190000@VHSSCHWARZACHTAL
SUMMARY:Business English B1 (26-42-3810) 
LOCATION:Altdorf, vhs am Markt, Kursraum 3, Unterer Markt 12, 90518 Altdorf
END:VEVENT
BEGIN:VEVENT
DTSTAMP:20260423T192718
DTSTART;TZID=Europe/Berlin:20260714T190000
DTEND;TZID=Europe/Berlin:20260714T203000
UID:26-42-3810-20260714T190000@VHSSCHWARZACHTAL
SUMMARY:Business English B1 (26-42-3810) 
LOCATION:Altdorf, vhs am Markt, Kursraum 3, Unterer Markt 12, 90518 Altdorf
END:VEVENT
BEGIN:VEVENT
DTSTAMP:20260423T192718
DTSTART;TZID=Europe/Berlin:20260721T190000
DTEND;TZID=Europe/Berlin:20260721T203000
UID:26-42-3810-20260721T190000@VHSSCHWARZACHTAL
SUMMARY:Business English B1 (26-42-3810) 
LOCATION:Altdorf, vhs am Markt, Kursraum 3, Unterer Markt 12, 90518 Altdorf
END:VEVENT
END:VCALENDAR