BEGIN:VCALENDAR
VERSION:2.0
PRODID:http://www.kufer.de/kuferweb / DE
METHOD:PUBLISH
CALSCALE:GREGORIAN
X-WR-TIMEZONE:Europe/Berlin
BEGIN:VTIMEZONE
TZID:Europe/Berlin
X-LIC-LOCATION:Europe/Berlin
BEGIN:DAYLIGHT
TZOFFSETFROM:+0100
TZOFFSETTO:+0200
TZNAME:CEST
DTSTART;TZID=Europe/Berlin:19700329T020000
RRULE:FREQ=YEARLY;INTERVAL=1;BYDAY=-1SU;BYMONTH=3
END:DAYLIGHT
BEGIN:STANDARD
TZOFFSETFROM:+0200
TZOFFSETTO:+0100
TZNAME:CET
DTSTART;TZID=Europe/Berlin:19701025T030000
RRULE:FREQ=YEARLY;INTERVAL=1;BYDAY=-1SU;BYMONTH=10
END:STANDARD
END:VTIMEZONE
BEGIN:VEVENT
DTSTAMP:20260423T192713
DTSTART;TZID=Europe/Berlin:20260428T191500
DTEND;TZID=Europe/Berlin:20260428T204500
UID:26-42-1106-20260428T191500@VHSSCHWARZACHTAL
SUMMARY:Englisch A1 ohne Vorkenntnisse Leichter Einstieg in eine weltweite Sprache (26-42-1106) 
LOCATION:Feucht, Mittelschule, EG05, Klassenzimmer, Schulstr. 5, Eingang M3, 90537 Feucht
END:VEVENT
BEGIN:VEVENT
DTSTAMP:20260423T192713
DTSTART;TZID=Europe/Berlin:20260505T191500
DTEND;TZID=Europe/Berlin:20260505T204500
UID:26-42-1106-20260505T191500@VHSSCHWARZACHTAL
SUMMARY:Englisch A1 ohne Vorkenntnisse Leichter Einstieg in eine weltweite Sprache (26-42-1106) 
LOCATION:Feucht, Mittelschule, EG05, Klassenzimmer, Schulstr. 5, Eingang M3, 90537 Feucht
END:VEVENT
BEGIN:VEVENT
DTSTAMP:20260423T192713
DTSTART;TZID=Europe/Berlin:20260512T191500
DTEND;TZID=Europe/Berlin:20260512T204500
UID:26-42-1106-20260512T191500@VHSSCHWARZACHTAL
SUMMARY:Englisch A1 ohne Vorkenntnisse Leichter Einstieg in eine weltweite Sprache (26-42-1106) 
LOCATION:Feucht, Mittelschule, EG05, Klassenzimmer, Schulstr. 5, Eingang M3, 90537 Feucht
END:VEVENT
BEGIN:VEVENT
DTSTAMP:20260423T192713
DTSTART;TZID=Europe/Berlin:20260519T191500
DTEND;TZID=Europe/Berlin:20260519T204500
UID:26-42-1106-20260519T191500@VHSSCHWARZACHTAL
SUMMARY:Englisch A1 ohne Vorkenntnisse Leichter Einstieg in eine weltweite Sprache (26-42-1106) 
LOCATION:Feucht, Mittelschule, EG05, Klassenzimmer, Schulstr. 5, Eingang M3, 90537 Feucht
END:VEVENT
BEGIN:VEVENT
DTSTAMP:20260423T192713
DTSTART;TZID=Europe/Berlin:20260609T191500
DTEND;TZID=Europe/Berlin:20260609T204500
UID:26-42-1106-20260609T191500@VHSSCHWARZACHTAL
SUMMARY:Englisch A1 ohne Vorkenntnisse Leichter Einstieg in eine weltweite Sprache (26-42-1106) 
LOCATION:Feucht, Mittelschule, EG05, Klassenzimmer, Schulstr. 5, Eingang M3, 90537 Feucht
END:VEVENT
BEGIN:VEVENT
DTSTAMP:20260423T192713
DTSTART;TZID=Europe/Berlin:20260616T191500
DTEND;TZID=Europe/Berlin:20260616T204500
UID:26-42-1106-20260616T191500@VHSSCHWARZACHTAL
SUMMARY:Englisch A1 ohne Vorkenntnisse Leichter Einstieg in eine weltweite Sprache (26-42-1106) 
LOCATION:Feucht, Mittelschule, EG05, Klassenzimmer, Schulstr. 5, Eingang M3, 90537 Feucht
END:VEVENT
BEGIN:VEVENT
DTSTAMP:20260423T192713
DTSTART;TZID=Europe/Berlin:20260623T191500
DTEND;TZID=Europe/Berlin:20260623T204500
UID:26-42-1106-20260623T191500@VHSSCHWARZACHTAL
SUMMARY:Englisch A1 ohne Vorkenntnisse Leichter Einstieg in eine weltweite Sprache (26-42-1106) 
LOCATION:Feucht, Mittelschule, EG05, Klassenzimmer, Schulstr. 5, Eingang M3, 90537 Feucht
END:VEVENT
BEGIN:VEVENT
DTSTAMP:20260423T192713
DTSTART;TZID=Europe/Berlin:20260630T191500
DTEND;TZID=Europe/Berlin:20260630T204500
UID:26-42-1106-20260630T191500@VHSSCHWARZACHTAL
SUMMARY:Englisch A1 ohne Vorkenntnisse Leichter Einstieg in eine weltweite Sprache (26-42-1106) 
LOCATION:Feucht, Mittelschule, EG05, Klassenzimmer, Schulstr. 5, Eingang M3, 90537 Feucht
END:VEVENT
BEGIN:VEVENT
DTSTAMP:20260423T192713
DTSTART;TZID=Europe/Berlin:20260707T191500
DTEND;TZID=Europe/Berlin:20260707T204500
UID:26-42-1106-20260707T191500@VHSSCHWARZACHTAL
SUMMARY:Englisch A1 ohne Vorkenntnisse Leichter Einstieg in eine weltweite Sprache (26-42-1106) 
LOCATION:Feucht, Mittelschule, EG05, Klassenzimmer, Schulstr. 5, Eingang M3, 90537 Feucht
END:VEVENT
BEGIN:VEVENT
DTSTAMP:20260423T192713
DTSTART;TZID=Europe/Berlin:20260714T191500
DTEND;TZID=Europe/Berlin:20260714T204500
UID:26-42-1106-20260714T191500@VHSSCHWARZACHTAL
SUMMARY:Englisch A1 ohne Vorkenntnisse Leichter Einstieg in eine weltweite Sprache (26-42-1106) 
LOCATION:Feucht, Mittelschule, EG05, Klassenzimmer, Schulstr. 5, Eingang M3, 90537 Feucht
END:VEVENT
END:VCALENDAR